BEGIN:VCALENDAR
VERSION:2.0
PRODID:-//GSA Ireland - ECPv6.15.20//NONSGML v1.0//EN
CALSCALE:GREGORIAN
METHOD:PUBLISH
X-ORIGINAL-URL:https://gsaireland.com
X-WR-CALDESC:Events for GSA Ireland
REFRESH-INTERVAL;VALUE=DURATION:PT1H
X-Robots-Tag:noindex
X-PUBLISHED-TTL:PT1H
BEGIN:VTIMEZONE
TZID:Europe/Dublin
BEGIN:STANDARD
TZOFFSETFROM:+0000
TZOFFSETTO:+0100
TZNAME:IST
DTSTART:20180325T010000
END:STANDARD
BEGIN:DAYLIGHT
TZOFFSETFROM:+0100
TZOFFSETTO:+0000
TZNAME:GMT
DTSTART:20181028T010000
END:DAYLIGHT
BEGIN:STANDARD
TZOFFSETFROM:+0000
TZOFFSETTO:+0100
TZNAME:IST
DTSTART:20190331T010000
END:STANDARD
BEGIN:DAYLIGHT
TZOFFSETFROM:+0100
TZOFFSETTO:+0000
TZNAME:GMT
DTSTART:20191027T010000
END:DAYLIGHT
BEGIN:STANDARD
TZOFFSETFROM:+0000
TZOFFSETTO:+0100
TZNAME:IST
DTSTART:20200329T010000
END:STANDARD
BEGIN:DAYLIGHT
TZOFFSETFROM:+0100
TZOFFSETTO:+0000
TZNAME:GMT
DTSTART:20201025T010000
END:DAYLIGHT
BEGIN:STANDARD
TZOFFSETFROM:+0000
TZOFFSETTO:+0100
TZNAME:IST
DTSTART:20210328T010000
END:STANDARD
BEGIN:DAYLIGHT
TZOFFSETFROM:+0100
TZOFFSETTO:+0000
TZNAME:GMT
DTSTART:20211031T010000
END:DAYLIGHT
BEGIN:STANDARD
TZOFFSETFROM:+0000
TZOFFSETTO:+0100
TZNAME:IST
DTSTART:20220327T010000
END:STANDARD
BEGIN:DAYLIGHT
TZOFFSETFROM:+0100
TZOFFSETTO:+0000
TZNAME:GMT
DTSTART:20221030T010000
END:DAYLIGHT
BEGIN:STANDARD
TZOFFSETFROM:+0000
TZOFFSETTO:+0100
TZNAME:IST
DTSTART:20230326T010000
END:STANDARD
BEGIN:DAYLIGHT
TZOFFSETFROM:+0100
TZOFFSETTO:+0000
TZNAME:GMT
DTSTART:20231029T010000
END:DAYLIGHT
END:VTIMEZONE
BEGIN:VTIMEZONE
TZID:UTC
BEGIN:STANDARD
TZOFFSETFROM:+0000
TZOFFSETTO:+0000
TZNAME:UTC
DTSTART:20160101T000000
END:STANDARD
END:VTIMEZONE
BEGIN:VEVENT
DTSTART;TZID=Europe/Dublin:20220422T080000
DTEND;TZID=Europe/Dublin:20220424T170000
DTSTAMP:20260422T141331
CREATED:20211230T215702Z
LAST-MODIFIED:20220329T180031Z
UID:10349-1650614400-1650819600@gsaireland.com
SUMMARY:LG Breed Show\, AD and Korung
DESCRIPTION:A LG Breed Show\, AD and Korung will be staged in conjunction with GSDCI. \nApril 22 – 24\, 2022 \nVenue: Ballygar\, Co Galway \nJudge:  Jochen Prall SV Germany (Pending Release). \n  \nDownload AD Endurance Test Information HERE \nDownload LG Breed Show Schedule HERE \nDownload Korung Schedule HERE
URL:https://gsaireland.com/event/breed-show-ad-and-korung-in-april/
CATEGORIES:AD Endurance Test,Shows,Trials
ATTACH;FMTTYPE=image/jpeg:https://gsaireland.com/wp-content/uploads/2022/03/GSA-Show-Poster.jpeg
END:VEVENT
BEGIN:VEVENT
DTSTART;TZID=Europe/Dublin:20190406T080000
DTEND;TZID=Europe/Dublin:20190407T170000
DTSTAMP:20260422T141331
CREATED:20181112T093903Z
LAST-MODIFIED:20190320T105606Z
UID:9552-1554537600-1554656400@gsaireland.com
SUMMARY:OG Corrib IGP Trial & AD
DESCRIPTION:OG Corrib will host a club IGP Trial and AD endurance test judged by Ludger Vortkamp (SV Germany) on April 6 & 7.\n\nTRIAL – SATURDAY APRIL 6th \nIGP Trial will be held at OG Corrib’s new training grounds at Deer Park Ballygar.\nTrial training days available Sundays 24th and 31st of March and Friday 5th of April\nPlease contact ogcorribgalway@gmail.com for more information. \nTRACKLAYER: Barry Dennehy (OG Glanmire)\n HELPER: Adi Donovan (OG Corrib) \nTracking will be on GRASS \nENTRY FEE: €50 for Trial OR AD (one day). €75 for Trial & AD (both days).\n CLOSING DATE: Monday March 25th – no late entries accepted after closing date!\n TRIAL SECRETARY: Gorana Leahy\, Dunally\, Co Sligo.\nClick on the >>ENTRY FORM<< to download\nPlease ensure the entry form is filled in correctly\, incomplete details will result in your entry being rendered invalid.\nAll dogs must have a valid WUSV-affiliated scorebook in order to take part. Please click on the Info for Members page HERE to find all relevant forms. \nAD – SUNDAY APRIL 7th \nPLEASE EMAIL ogcorribgalway@gmail.com to register interest in the AD (20km endurance test) before submitting entry form.\nSee above for form\, secretary and entry details.\nAD location to follow shortly. \nThe minimum age is 16 months\, the maximum age 6 years.\nAll dogs must be registered in a GSA\, WUSV or FCI recognised Breed Book or Performance Register.\nThe dogs must be completely healthy and in good training condition. Sick\, not adequately strong dogs\, females in heat\, pregnant or nursing females are not allowed to participate.\nThe scorebook must be presented. The judge and the trial secretary of the hosting club must verify that each dog is in good condition.\nDogs that look tired or make a listless impression must be excluded from participating. The handlers must conduct themselves in a sporting manner throughout the event.\nThe dog must be kept on leash and move in a normal trot next to the bicycle. Overly fast running is to be avoided.\nThe leash must be adequately long to give the dog the ability to adjust to any changes in speed. Devices used to attach the dog to the bike (‘Springer’) are permitted.\nSlight pulling on the leash (forging) is not faulty\, however\, continuous falling behind (lagging) of the dog is faulty.\nTwo rest breaks and physical checks will take place.\nDuring this break\, the dogs must be given the opportunity to move about freely and relaxed but must be kept on leash.\nShortly before the rest periods are over\, the judge must examine the dogs for signs of fatigue and sore paws.\nUpon completion of the running exercise\, a 15-minute break is taken. During this break\, the dogs must be given the opportunity to move about freely and relaxed but should be kept on leash. Again\, the judge will examine the dogs for signs of fatigue and sore paws.\nAfter concluding the running exercise\, at the judge’s instructions\, the handler\, with the dog at heel\, has to take up position. After being called\, every participant\, with their dog\, must show obedience exercises appropriate to the training level of the dog. The exercises can be shown on a loose lead.
URL:https://gsaireland.com/event/igp-trial-ad-corrib/
CATEGORIES:AD Endurance Test,Trials
ATTACH;FMTTYPE=image/jpeg:https://gsaireland.com/wp-content/uploads/2017/09/AD.jpg
END:VEVENT
BEGIN:VEVENT
DTSTART;TZID=UTC:20171203T080000
DTEND;TZID=UTC:20171203T120000
DTSTAMP:20260422T141331
CREATED:20170911T115513Z
LAST-MODIFIED:20171116T124628Z
UID:9056-1512288000-1512302400@gsaireland.com
SUMMARY:AD ENDURANCE TEST
DESCRIPTION:GSA Ireland/OG Templepatrick will hold an endurance test at Down Royal Racecourse in County Down on Sunday December 3rd judged by Herr Jens-Peter Flügge (SV\, Germany). \n \n  \nThis qualification is a compulsory element for the Körung/breed survey. \nPlease register your interest with the GSA Ireland National Working Warden Alvin Davis at gsairelandnww@gmail.com before entering. \nClick here for >>>ENTRY FORM\nSpaces are limited and are filling up fast.\nEntry fee: £20 Sterling\nClosing date for entries: Saturday November 18\, 2017.\nSend entries to: Trial Secretary\, OG Templepatrick\, Karl Business Park\, 92 Old Ballyrobin Road\, Antrim\, Co Antrim\, BT41 4TJ\nHost OG Email: ogtemplepatrick@gmail.com\n– NO LATE ENTRIES ACCEPTED AFTER CLOSING DATE.\n– PLEASE MAKE PMO / CHEQUES PAYABLE TO ‘OG TEMPLEPATRICK’\n– Entries will not be accepted from dogs without a WUSV – approved score book and pedigree. Please bring all documentation to the event. \nFor link to venue and map\, click here \n 
URL:https://gsaireland.com/event/ad-endurance-test/
LOCATION:Down Royal Racecourse\, Gravelhill Road\, Lisburn\, BT27 5RW\, United Kingdom
CATEGORIES:AD Endurance Test,Trials
ATTACH;FMTTYPE=image/jpeg:https://gsaireland.com/wp-content/uploads/2017/09/AD.jpg
END:VEVENT
END:VCALENDAR